BEGIN:VCALENDAR
VERSION:2.0
PRODID:icalendar-ruby
CALSCALE:GREGORIAN
BEGIN:VEVENT
DTSTAMP:20260420T083307Z
UID:b04fffcc-296d-49fe-965e-177fad491ddd
DTSTART:20260502T000000
DTEND:20260502T030000
DESCRIPTION:Born Of Osiris live in concert at Nevermore Hall
LOCATION:Nevermore Hall\, Baltimore\, MD\, USA
ORGANIZER:mailto:events@ampwrecked.com
SUMMARY:Born Of Osiris - Born Of Osiris at Nevermore Hall
END:VEVENT
END:VCALENDAR
