BEGIN:VCALENDAR
VERSION:2.0
PRODID:icalendar-ruby
CALSCALE:GREGORIAN
BEGIN:VEVENT
DTSTAMP:20260420T083222Z
UID:d7b25b87-ce47-46fe-aad8-b90df52c4724
DTSTART:20260501T000000
DTEND:20260501T030000
DESCRIPTION:Born Of Osiris live in concert at The Stone Pony
LOCATION:The Stone Pony\, Asbury Park\, NJ\, USA
ORGANIZER:mailto:events@ampwrecked.com
SUMMARY:Born Of Osiris - Born Of Osiris at The Stone Pony
END:VEVENT
END:VCALENDAR
