BEGIN:VCALENDAR
VERSION:2.0
PRODID:icalendar-ruby
CALSCALE:GREGORIAN
BEGIN:VEVENT
DTSTAMP:20260420T083222Z
UID:9ec81754-0ec2-49d9-86ef-4456527d6942
DTSTART:20260429T000000
DTEND:20260429T030000
DESCRIPTION:Born Of Osiris live in concert at Empire Live
LOCATION:Empire Live\, Albany\, NY\, USA
ORGANIZER:mailto:events@ampwrecked.com
SUMMARY:Born Of Osiris - Born Of Osiris at Empire Live
END:VEVENT
END:VCALENDAR
