BEGIN:VCALENDAR
VERSION:2.0
PRODID:icalendar-ruby
CALSCALE:GREGORIAN
BEGIN:VEVENT
DTSTAMP:20260420T083307Z
UID:fce55508-c64b-4943-b099-35838e9ced8a
DTSTART:20260729T000000
DTEND:20260729T030000
DESCRIPTION:The Ghost Inside live in concert at Rockstadt Extreme Fest 2026
LOCATION:Rockstadt Extreme Fest 2026\, Râșnov\, \, Romania
ORGANIZER:mailto:events@ampwrecked.com
SUMMARY:The Ghost Inside - The Ghost Inside at Rockstadt Extreme Fest 2026
END:VEVENT
END:VCALENDAR
