BEGIN:VCALENDAR
VERSION:2.0
PRODID:icalendar-ruby
CALSCALE:GREGORIAN
BEGIN:VEVENT
DTSTAMP:20260420T083359Z
UID:d2c912e2-2a1c-412c-b994-efc0ed2e4a63
DTSTART:20260611T000000
DTEND:20260611T030000
DESCRIPTION:Bad Omens live in concert at Nova Rock 2026
LOCATION:Nova Rock 2026\, Nickelsdorf\, \, Austria
ORGANIZER:mailto:events@ampwrecked.com
SUMMARY:Bad Omens - Bad Omens at Nova Rock 2026
END:VEVENT
END:VCALENDAR
