BEGIN:VCALENDAR
VERSION:2.0
PRODID:icalendar-ruby
CALSCALE:GREGORIAN
BEGIN:VEVENT
DTSTAMP:20260420T095424Z
UID:d537b7ad-6013-4fe3-817d-6c030204b8f0
DTSTART:20260331T000000
DTEND:20260331T030000
DESCRIPTION:Limit of Destruction live in concert at Buckhead Theatre
LOCATION:Buckhead Theatre\, Atlanta\, GA\, USA
ORGANIZER:mailto:events@ampwrecked.com
SUMMARY:Limit of Destruction - Limit of Destruction at Buckhead Theatre
END:VEVENT
END:VCALENDAR
