BEGIN:VCALENDAR
VERSION:2.0
PRODID:icalendar-ruby
CALSCALE:GREGORIAN
BEGIN:VEVENT
DTSTAMP:20260420T100132Z
UID:042b712f-db48-4042-8df9-1ec5e34aac0b
DTSTART:20260329T000000
DTEND:20260329T030000
DESCRIPTION:Limit of Destruction live in concert at Reverb
LOCATION:Reverb\, Reading\, PA\, USA
ORGANIZER:mailto:events@ampwrecked.com
SUMMARY:Limit of Destruction - Limit of Destruction at Reverb
END:VEVENT
END:VCALENDAR
