BEGIN:VCALENDAR
VERSION:2.0
PRODID:icalendar-ruby
CALSCALE:GREGORIAN
BEGIN:VEVENT
DTSTAMP:20260420T083401Z
UID:3e8214b6-79ac-4c8d-81dd-867107914c41
DTSTART:20260406T000000
DTEND:20260406T030000
DESCRIPTION:Dashboard Confessional live in concert at Canadian Tire Centre
LOCATION:Canadian Tire Centre\, Ottawa\, ON\, USA
ORGANIZER:mailto:events@ampwrecked.com
SUMMARY:Dashboard Confessional - Dashboard Confessional at Canadian Tire Ce
 ntre
END:VEVENT
END:VCALENDAR
