BEGIN:VCALENDAR
VERSION:2.0
PRODID:icalendar-ruby
CALSCALE:GREGORIAN
BEGIN:VEVENT
DTSTAMP:20260420T083253Z
UID:862b3d45-5943-4e00-9462-b8c5715b4cfc
DTSTART:20260905T000000
DTEND:20260905T030000
DESCRIPTION:WSTR live in concert at Bürgerhauswiese
LOCATION:Bürgerhauswiese\, Egelsbach\, \, Germany
ORGANIZER:mailto:events@ampwrecked.com
SUMMARY:WSTR - WSTR at Bürgerhauswiese
END:VEVENT
END:VCALENDAR
