BEGIN:VCALENDAR
VERSION:2.0
PRODID:icalendar-ruby
CALSCALE:GREGORIAN
BEGIN:VEVENT
DTSTAMP:20260420T100132Z
UID:824462bc-06a1-4f9e-85f1-dadfa777d2b1
DTSTART:20260608T000000
DTEND:20260608T030000
DESCRIPTION:CELL live in concert at Marymoor Park Concerts
LOCATION:Marymoor Park Concerts\, Redmond\, WA\, USA
ORGANIZER:mailto:events@ampwrecked.com
SUMMARY:CELL - CELL at Marymoor Park Concerts
END:VEVENT
END:VCALENDAR
