BEGIN:VCALENDAR
VERSION:2.0
PRODID:icalendar-ruby
CALSCALE:GREGORIAN
BEGIN:VEVENT
DTSTAMP:20260420T100132Z
UID:3e93e6b3-2fd9-4587-8b94-8b8d17b621fe
DTSTART:20260623T000000
DTEND:20260623T030000
DESCRIPTION:Possessed Entity live in concert at Helvete Pub - Club - Live S
 tage
LOCATION:Helvete Pub - Club - Live Stage\, Oberhausen\, \, Germany
ORGANIZER:mailto:events@ampwrecked.com
SUMMARY:Possessed Entity - Possessed Entity at Helvete Pub - Club - Live St
 age
END:VEVENT
END:VCALENDAR
