BEGIN:VCALENDAR
VERSION:2.0
PRODID:icalendar-ruby
CALSCALE:GREGORIAN
BEGIN:VEVENT
DTSTAMP:20260420T083456Z
UID:f7b677d3-a3a2-4c53-af20-c18a51f34ba6
DTSTART:20260619T000000
DTEND:20260619T030000
DESCRIPTION:Possessed Entity live in concert at Graspop Metal Meeting 2026
LOCATION:Graspop Metal Meeting 2026\, Dessel\, \, Belgium
ORGANIZER:mailto:events@ampwrecked.com
SUMMARY:Possessed Entity - Possessed Entity at Graspop Metal Meeting 2026
END:VEVENT
END:VCALENDAR
