BEGIN:VCALENDAR
VERSION:2.0
PRODID:icalendar-ruby
CALSCALE:GREGORIAN
BEGIN:VEVENT
DTSTAMP:20260420T083417Z
UID:eb14f8d5-6475-4ed8-899c-b10c89a8f463
DTSTART:20260620T000000
DTEND:20260620T030000
DESCRIPTION:The Ataris live in concert at Southside Festival 2026
LOCATION:Southside Festival 2026\, Neuhausen ob Eck\, \, Germany
ORGANIZER:mailto:events@ampwrecked.com
SUMMARY:The Ataris - The Ataris at Southside Festival 2026
END:VEVENT
END:VCALENDAR
