BEGIN:VCALENDAR
VERSION:2.0
PRODID:icalendar-ruby
CALSCALE:GREGORIAN
BEGIN:VEVENT
DTSTAMP:20260420T083310Z
UID:fb9020e8-d199-41be-a6a0-078a82b2b3a4
DTSTART:20260619T000000
DTEND:20260619T030000
DESCRIPTION:The Ataris live in concert at Hurricane Festival 2026
LOCATION:Hurricane Festival 2026\, Scheeßel\, \, Germany
ORGANIZER:mailto:events@ampwrecked.com
SUMMARY:The Ataris - The Ataris at Hurricane Festival 2026
END:VEVENT
END:VCALENDAR
