BEGIN:VCALENDAR
VERSION:2.0
PRODID:icalendar-ruby
CALSCALE:GREGORIAN
BEGIN:VEVENT
DTSTAMP:20260420T083148Z
UID:e9dd4d64-0180-4b1b-a948-539b7a1f27a8
DTSTART:20260912T000000
DTEND:20260912T030000
DESCRIPTION:Set Your Goals live in concert at Vans Warped Tour Mexico City 
 2026
LOCATION:Vans Warped Tour Mexico City 2026\, México\, \, Mexico
ORGANIZER:mailto:events@ampwrecked.com
SUMMARY:Set Your Goals - Set Your Goals at Vans Warped Tour Mexico City 202
 6
END:VEVENT
END:VCALENDAR
