BEGIN:VCALENDAR
VERSION:2.0
PRODID:icalendar-ruby
CALSCALE:GREGORIAN
BEGIN:VEVENT
DTSTAMP:20260420T083420Z
UID:68cc9e53-9ed9-4f6c-ad30-a3beec0890f5
DTSTART:20260725T000000
DTEND:20260725T030000
DESCRIPTION:Set Your Goals live in concert at Warped Tour Long Beach 2026
LOCATION:Warped Tour Long Beach 2026\, Long Beach\, CA\, USA
ORGANIZER:mailto:events@ampwrecked.com
SUMMARY:Set Your Goals - Set Your Goals at Warped Tour Long Beach 2026
END:VEVENT
END:VCALENDAR
