BEGIN:VCALENDAR
VERSION:2.0
PRODID:icalendar-ruby
CALSCALE:GREGORIAN
BEGIN:VEVENT
DTSTAMP:20260420T083359Z
UID:3dca630c-7f75-4a1d-af22-268320a9a9b8
DTSTART:20260613T000000
DTEND:20260613T030000
DESCRIPTION:Set Your Goals live in concert at Van's Warped Tour DC 2026
LOCATION:Van's Warped Tour DC 2026\, Greenway\, DC\, USA
ORGANIZER:mailto:events@ampwrecked.com
SUMMARY:Set Your Goals - Set Your Goals at Van's Warped Tour DC 2026
END:VEVENT
END:VCALENDAR
