BEGIN:VCALENDAR
VERSION:2.0
PRODID:icalendar-ruby
CALSCALE:GREGORIAN
BEGIN:VEVENT
DTSTAMP:20260420T083308Z
UID:e5605fcf-aede-412a-a219-e6bcd290882a
DTSTART:20260522T000000
DTEND:20260522T030000
DESCRIPTION:Set Your Goals live in concert at Slam Dunk Warmup Show
LOCATION:Slam Dunk Warmup Show\, London\, \, United Kingdom
ORGANIZER:mailto:events@ampwrecked.com
SUMMARY:Set Your Goals - Set Your Goals at Slam Dunk Warmup Show
END:VEVENT
END:VCALENDAR
