BEGIN:VCALENDAR
VERSION:2.0
PRODID:icalendar-ruby
CALSCALE:GREGORIAN
BEGIN:VEVENT
DTSTAMP:20260420T082614Z
UID:9222eeb7-bc64-4a24-aa2a-60379103bfbd
DTSTART:20260511T000000
DTEND:20260511T030000
DESCRIPTION:ExitWounds live in concert at Centennial Hall
LOCATION:Centennial Hall\, Erie\, PA\, USA
ORGANIZER:mailto:events@ampwrecked.com
SUMMARY:ExitWounds - ExitWounds at Centennial Hall
END:VEVENT
END:VCALENDAR
