BEGIN:VCALENDAR
VERSION:2.0
PRODID:icalendar-ruby
CALSCALE:GREGORIAN
BEGIN:VEVENT
DTSTAMP:20260420T083253Z
UID:305b9515-12b6-4294-8059-29d2d7d7b35e
DTSTART:20260510T000000
DTEND:20260510T030000
DESCRIPTION:ExitWounds live in concert at Mac's Bar
LOCATION:Mac's Bar\, Lansing\, MI\, USA
ORGANIZER:mailto:events@ampwrecked.com
SUMMARY:ExitWounds - ExitWounds at Mac's Bar
END:VEVENT
END:VCALENDAR
