BEGIN:VCALENDAR
VERSION:2.0
PRODID:icalendar-ruby
CALSCALE:GREGORIAN
BEGIN:VEVENT
DTSTAMP:20260420T083253Z
UID:efca1bfb-8e2f-4289-8f18-6fe2beeb53c7
DTSTART:20260529T000000
DTEND:20260529T030000
DESCRIPTION:Punkreas live in concert at PUNKREAS - DIY Tour 2026 @ Morboroc
 k - Morbegno (SO)
LOCATION:PUNKREAS - DIY Tour 2026 @ Morborock - Morbegno (SO)\, Morbegno\, 
 \, Italy
ORGANIZER:mailto:events@ampwrecked.com
SUMMARY:Punkreas - Punkreas at PUNKREAS - DIY Tour 2026 @ Morborock - Morbe
 gno (SO)
END:VEVENT
END:VCALENDAR
