BEGIN:VCALENDAR
VERSION:2.0
PRODID:icalendar-ruby
CALSCALE:GREGORIAN
BEGIN:VEVENT
DTSTAMP:20260420T083401Z
UID:57ff3117-61a8-45f7-b0b3-4e5689936131
DTSTART:20260329T000000
DTEND:20260329T030000
DESCRIPTION:sinema live in concert at The Granada
LOCATION:The Granada\, Lawrence\, KS\, USA
ORGANIZER:mailto:events@ampwrecked.com
SUMMARY:sinema - sinema at The Granada
END:VEVENT
END:VCALENDAR
