BEGIN:VCALENDAR
VERSION:2.0
PRODID:icalendar-ruby
CALSCALE:GREGORIAN
BEGIN:VEVENT
DTSTAMP:20260420T083224Z
UID:d1f4e3f1-c8b1-4959-b8a0-f1e72c67ada9
DTSTART:20260331T000000
DTEND:20260331T030000
DESCRIPTION:Kublai Khan TX live in concert at WAMU Theater
LOCATION:WAMU Theater\, Seattle\, WA\, USA
ORGANIZER:mailto:events@ampwrecked.com
SUMMARY:Kublai Khan TX - Kublai Khan TX at WAMU Theater
END:VEVENT
END:VCALENDAR
