BEGIN:VCALENDAR
VERSION:2.0
PRODID:icalendar-ruby
CALSCALE:GREGORIAN
BEGIN:VEVENT
DTSTAMP:20260420T083255Z
UID:dfd89c69-642b-430d-b004-fd17253b2a38
DTSTART:20260410T000000
DTEND:20260410T030000
DESCRIPTION:Disarmer live in concert at Red Clay
LOCATION:Red Clay\, Duluth\, GA\, USA
ORGANIZER:mailto:events@ampwrecked.com
SUMMARY:Disarmer - Disarmer at Red Clay
END:VEVENT
END:VCALENDAR
