BEGIN:VCALENDAR
VERSION:2.0
PRODID:icalendar-ruby
CALSCALE:GREGORIAN
BEGIN:VEVENT
DTSTAMP:20260420T083508Z
UID:d956a39d-a26d-4eb2-a98f-7b6cee3bdefc
DTSTART:20260609T000000
DTEND:20260609T030000
DESCRIPTION:Upon A Burning Body live in concert at Eulogy
LOCATION:Eulogy\, Asheville\, NC\, USA
ORGANIZER:mailto:events@ampwrecked.com
SUMMARY:Upon A Burning Body - Upon A Burning Body at Eulogy
END:VEVENT
END:VCALENDAR
