BEGIN:VCALENDAR
VERSION:2.0
PRODID:icalendar-ruby
CALSCALE:GREGORIAN
BEGIN:VEVENT
DTSTAMP:20260420T083459Z
UID:17b15d66-a1ab-4f58-82ed-455a4d29b780
DTSTART:20260331T000000
DTEND:20260331T030000
DESCRIPTION:Fit For An Autopsy live in concert at WAMU Theater
LOCATION:WAMU Theater\, Seattle\, WA\, USA
ORGANIZER:mailto:events@ampwrecked.com
SUMMARY:Fit For An Autopsy - Fit For An Autopsy at WAMU Theater
END:VEVENT
END:VCALENDAR
