BEGIN:VCALENDAR
VERSION:2.0
PRODID:icalendar-ruby
CALSCALE:GREGORIAN
BEGIN:VEVENT
DTSTAMP:20260420T083400Z
UID:575a240e-00d3-47ee-a13a-2b12c69d08b1
DTSTART:20260331T000000
DTEND:20260331T030000
DESCRIPTION:Carly Cosgrove live in concert at The Vera Project
LOCATION:The Vera Project\, Seattle\, WA\, USA
ORGANIZER:mailto:events@ampwrecked.com
SUMMARY:Carly Cosgrove - Carly Cosgrove at The Vera Project
END:VEVENT
END:VCALENDAR
