BEGIN:VCALENDAR
VERSION:2.0
PRODID:icalendar-ruby
CALSCALE:GREGORIAN
BEGIN:VEVENT
DTSTAMP:20260420T083221Z
UID:d02d2abb-daaa-4e02-83a7-c967b5c21b7c
DTSTART:20260409T000000
DTEND:20260409T030000
DESCRIPTION:Grayscale live in concert at First Avenue
LOCATION:First Avenue\, Minneapolis\, MN\, USA
ORGANIZER:mailto:events@ampwrecked.com
SUMMARY:Grayscale - Grayscale at First Avenue
END:VEVENT
END:VCALENDAR
