BEGIN:VCALENDAR
VERSION:2.0
PRODID:icalendar-ruby
CALSCALE:GREGORIAN
BEGIN:VEVENT
DTSTAMP:20260420T083309Z
UID:4b18b0c0-eefb-4a90-967f-e1061e31d0b2
DTSTART:20260508T000000
DTEND:20260508T030000
DESCRIPTION:Napalm Death live in concert at The Orpheum
LOCATION:The Orpheum\, Tampa\, FL\, USA
ORGANIZER:mailto:events@ampwrecked.com
SUMMARY:Napalm Death - Napalm Death at The Orpheum
END:VEVENT
END:VCALENDAR
