BEGIN:VCALENDAR
VERSION:2.0
PRODID:icalendar-ruby
CALSCALE:GREGORIAN
BEGIN:VEVENT
DTSTAMP:20260420T083459Z
UID:9b59c1df-bd41-4d83-9058-d6f437f899ed
DTSTART:20260505T000000
DTEND:20260505T030000
DESCRIPTION:Nevertel live in concert at The Union Event Center
LOCATION:The Union Event Center\, Salt Lake City\, UT\, USA
ORGANIZER:mailto:events@ampwrecked.com
SUMMARY:Nevertel - Nevertel at The Union Event Center
END:VEVENT
END:VCALENDAR
