BEGIN:VCALENDAR
VERSION:2.0
PRODID:icalendar-ruby
CALSCALE:GREGORIAN
BEGIN:VEVENT
DTSTAMP:20260420T083422Z
UID:bd4d2c8d-2523-4f5d-9a83-f800f469d6a1
DTSTART:20260331T000000
DTEND:20260331T030000
DESCRIPTION:Caskets live in concert at The Rave / Eagles Club
LOCATION:The Rave / Eagles Club\, Milwaukee\, WI\, USA
ORGANIZER:mailto:events@ampwrecked.com
SUMMARY:Caskets - Caskets at The Rave / Eagles Club
END:VEVENT
END:VCALENDAR
