BEGIN:VCALENDAR
VERSION:2.0
PRODID:icalendar-ruby
CALSCALE:GREGORIAN
BEGIN:VEVENT
DTSTAMP:20260420T083309Z
UID:c077356e-f15a-4a57-b9c5-86d5802f22d7
DTSTART:20260328T000000
DTEND:20260328T030000
DESCRIPTION:Caskets live in concert at House of Blues Chicago
LOCATION:House of Blues Chicago\, Chicago\, IL\, USA
ORGANIZER:mailto:events@ampwrecked.com
SUMMARY:Caskets - Caskets at House of Blues Chicago
END:VEVENT
END:VCALENDAR
