BEGIN:VCALENDAR
VERSION:2.0
PRODID:icalendar-ruby
CALSCALE:GREGORIAN
BEGIN:VEVENT
DTSTAMP:20260420T101107Z
UID:a45028e4-b20f-4570-b6ae-9e8e88dd3ce6
DTSTART:20260324T000000
DTEND:20260324T030000
DESCRIPTION:Caskets live in concert at Bogart's
LOCATION:Bogart's\, Cincinnati\, OH\, USA
ORGANIZER:mailto:events@ampwrecked.com
SUMMARY:Caskets - Caskets at Bogart's
END:VEVENT
END:VCALENDAR
