BEGIN:VCALENDAR
VERSION:2.0
PRODID:icalendar-ruby
CALSCALE:GREGORIAN
BEGIN:VEVENT
DTSTAMP:20260420T095507Z
UID:2759ae95-3151-4b99-ac65-ce0c6fe3cc9b
DTSTART:20260322T000000
DTEND:20260322T030000
DESCRIPTION:Caskets live in concert at Roxian Theatre Presented by Citizens
LOCATION:Roxian Theatre Presented by Citizens\, McKees Rocks\, PA\, USA
ORGANIZER:mailto:events@ampwrecked.com
SUMMARY:Caskets - Caskets at Roxian Theatre Presented by Citizens
END:VEVENT
END:VCALENDAR
