BEGIN:VCALENDAR
VERSION:2.0
PRODID:icalendar-ruby
CALSCALE:GREGORIAN
BEGIN:VEVENT
DTSTAMP:20260420T083308Z
UID:f3fde86c-3596-4f4d-9bc4-0b5ef7e1991c
DTSTART:20261001T000000
DTEND:20261001T030000
DESCRIPTION:Nothing More live in concert at Aftershock 2026
LOCATION:Aftershock 2026\, Sacramento\, CA\, USA
ORGANIZER:mailto:events@ampwrecked.com
SUMMARY:Nothing More - Nothing More at Aftershock 2026
END:VEVENT
END:VCALENDAR
