BEGIN:VCALENDAR
VERSION:2.0
PRODID:icalendar-ruby
CALSCALE:GREGORIAN
BEGIN:VEVENT
DTSTAMP:20260420T083221Z
UID:ab0bcf4e-911e-4dd4-a12e-b9bbc9044b8d
DTSTART:20260919T000000
DTEND:20260919T030000
DESCRIPTION:Nothing More live in concert at Louder Than Life 2026
LOCATION:Louder Than Life 2026\, Louisville\, KY\, USA
ORGANIZER:mailto:events@ampwrecked.com
SUMMARY:Nothing More - Nothing More at Louder Than Life 2026
END:VEVENT
END:VCALENDAR
