BEGIN:VCALENDAR
VERSION:2.0
PRODID:icalendar-ruby
CALSCALE:GREGORIAN
BEGIN:VEVENT
DTSTAMP:20260421T084003Z
UID:5a52f346-91b7-4567-827f-c09fbb102d67
DTSTART:20260326T000000
DTEND:20260326T030000
DESCRIPTION:Ov Sulfur live in concert at Radio Room
LOCATION:Radio Room\, Greenville\, SC\, USA
ORGANIZER:mailto:events@ampwrecked.com
SUMMARY:Ov Sulfur - Ov Sulfur at Radio Room
END:VEVENT
END:VCALENDAR
