BEGIN:VCALENDAR
VERSION:2.0
PRODID:icalendar-ruby
CALSCALE:GREGORIAN
BEGIN:VEVENT
DTSTAMP:20260420T083458Z
UID:391f9a22-2f69-454b-a36b-da7457741e59
DTSTART:20260529T000000
DTEND:20260529T030000
DESCRIPTION:Gutrectomy live in concert at Slaughter Club
LOCATION:Slaughter Club\, Paderno Dugnano\, \, Italy
ORGANIZER:mailto:events@ampwrecked.com
SUMMARY:Gutrectomy - Gutrectomy at Slaughter Club
END:VEVENT
END:VCALENDAR
