BEGIN:VCALENDAR
VERSION:2.0
PRODID:icalendar-ruby
CALSCALE:GREGORIAN
BEGIN:VEVENT
DTSTAMP:20260420T100123Z
UID:564a18d6-7647-4ae5-bb78-edcca7644129
DTSTART:20260615T000000
DTEND:20260615T030000
DESCRIPTION:Escuela Grind live in concert at Sunset Bar
LOCATION:Sunset Bar\, Martigny\, \, Switzerland
ORGANIZER:mailto:events@ampwrecked.com
SUMMARY:Escuela Grind - Escuela Grind at Sunset Bar
END:VEVENT
END:VCALENDAR
