BEGIN:VCALENDAR
VERSION:2.0
PRODID:icalendar-ruby
CALSCALE:GREGORIAN
BEGIN:VEVENT
DTSTAMP:20260420T083401Z
UID:d40c718d-ed1d-4ffa-88cb-d10570d492e7
DTSTART:20260328T000000
DTEND:20260328T030000
DESCRIPTION:Against Everyone live in concert at PNE Forum
LOCATION:PNE Forum\, Vancouver\, BC\, USA
ORGANIZER:mailto:events@ampwrecked.com
SUMMARY:Against Everyone - Against Everyone at PNE Forum
END:VEVENT
END:VCALENDAR
