BEGIN:VCALENDAR
VERSION:2.0
PRODID:icalendar-ruby
CALSCALE:GREGORIAN
BEGIN:VEVENT
DTSTAMP:20260420T083359Z
UID:440ab417-6bc6-480a-b1a0-f4d2253d1121
DTSTART:20260327T000000
DTEND:20260327T030000
DESCRIPTION:Against Everyone live in concert at Penticton Trade and Convent
 ion Centre
LOCATION:Penticton Trade and Convention Centre\, Penticton\, BC\, USA
ORGANIZER:mailto:events@ampwrecked.com
SUMMARY:Against Everyone - Against Everyone at Penticton Trade and Conventi
 on Centre
END:VEVENT
END:VCALENDAR
