BEGIN:VCALENDAR
VERSION:2.0
PRODID:icalendar-ruby
CALSCALE:GREGORIAN
BEGIN:VEVENT
DTSTAMP:20260420T083307Z
UID:13c7189d-a878-45bd-826e-048e0ae1e4d0
DTSTART:20260324T000000
DTEND:20260324T030000
DESCRIPTION:Against Everyone live in concert at Edmonton Convention Centre
LOCATION:Edmonton Convention Centre\, Edmonton\, AB\, USA
ORGANIZER:mailto:events@ampwrecked.com
SUMMARY:Against Everyone - Against Everyone at Edmonton Convention Centre
END:VEVENT
END:VCALENDAR
