BEGIN:VCALENDAR
VERSION:2.0
PRODID:icalendar-ruby
CALSCALE:GREGORIAN
BEGIN:VEVENT
DTSTAMP:20260420T083309Z
UID:c9d888e4-c2ca-456f-8cf6-5f4b7857966a
DTSTART:20260322T000000
DTEND:20260322T030000
DESCRIPTION:Against Everyone live in concert at Burton Cummings Theatre
LOCATION:Burton Cummings Theatre\, Winnipeg\, MB\, USA
ORGANIZER:mailto:events@ampwrecked.com
SUMMARY:Against Everyone - Against Everyone at Burton Cummings Theatre
END:VEVENT
END:VCALENDAR
