BEGIN:VCALENDAR
VERSION:2.0
PRODID:icalendar-ruby
CALSCALE:GREGORIAN
BEGIN:VEVENT
DTSTAMP:20260420T083415Z
UID:cb8438c7-c44d-4217-b98d-eab8cccbab36
DTSTART:20260321T000000
DTEND:20260321T030000
DESCRIPTION:Against Everyone live in concert at Burton Cummings Theatre
LOCATION:Burton Cummings Theatre\, Winnipeg\, MB\, USA
ORGANIZER:mailto:events@ampwrecked.com
SUMMARY:Against Everyone - Against Everyone at Burton Cummings Theatre
END:VEVENT
END:VCALENDAR
