BEGIN:VCALENDAR
VERSION:2.0
PRODID:icalendar-ruby
CALSCALE:GREGORIAN
BEGIN:VEVENT
DTSTAMP:20260420T083309Z
UID:7e5c500c-db1f-441a-b67f-3dea44bd21a5
DTSTART:20260613T000000
DTEND:20260613T030000
DESCRIPTION:The All-American Rejects live in concert at Donington Park Circ
 uit
LOCATION:Donington Park Circuit\, Castle Donington\, \, United Kingdom
ORGANIZER:mailto:events@ampwrecked.com
SUMMARY:The All-American Rejects - The All-American Rejects at Donington Pa
 rk Circuit
END:VEVENT
END:VCALENDAR
