BEGIN:VCALENDAR
VERSION:2.0
PRODID:icalendar-ruby
CALSCALE:GREGORIAN
BEGIN:VEVENT
DTSTAMP:20260420T083400Z
UID:40da0a9c-518e-4eaa-89a0-dd88e12d6ab1
DTSTART:20260328T000000
DTEND:20260328T030000
DESCRIPTION:Microwave live in concert at The Observatory North Park
LOCATION:The Observatory North Park\, San Diego\, CA\, USA
ORGANIZER:mailto:events@ampwrecked.com
SUMMARY:Microwave - Microwave at The Observatory North Park
END:VEVENT
END:VCALENDAR
