BEGIN:VCALENDAR
VERSION:2.0
PRODID:icalendar-ruby
CALSCALE:GREGORIAN
BEGIN:VEVENT
DTSTAMP:20260420T083221Z
UID:6dbe6eb2-3e09-4589-89e4-bfc6a3bbd6a5
DTSTART:20260328T000000
DTEND:20260328T030000
DESCRIPTION:BOYS LIKE GIRLS live in concert at GLC Live at 20 Monroe
LOCATION:GLC Live at 20 Monroe\, Grand Rapids\, MI\, USA
ORGANIZER:mailto:events@ampwrecked.com
SUMMARY:BOYS LIKE GIRLS - BOYS LIKE GIRLS at GLC Live at 20 Monroe
END:VEVENT
END:VCALENDAR
