BEGIN:VCALENDAR
VERSION:2.0
PRODID:icalendar-ruby
CALSCALE:GREGORIAN
BEGIN:VEVENT
DTSTAMP:20260420T083309Z
UID:94f65770-5711-42c3-9d8b-426303515725
DTSTART:20260928T000000
DTEND:20260928T030000
DESCRIPTION:Aborted Bong Rip live in concert at Shadow of Intent\, Aborted\
 , Disembodied Tyrant\, Soreption
LOCATION:Shadow of Intent\, Aborted\, Disembodied Tyrant\, Soreption\, Pari
 s\, \, France
ORGANIZER:mailto:events@ampwrecked.com
SUMMARY:Aborted Bong Rip - Aborted Bong Rip at Shadow of Intent\, Aborted\,
  Disembodied Tyrant\, Soreption
END:VEVENT
END:VCALENDAR
