BEGIN:VCALENDAR
VERSION:2.0
PRODID:icalendar-ruby
CALSCALE:GREGORIAN
BEGIN:VEVENT
DTSTAMP:20260420T083307Z
UID:f056340c-4151-4d57-9b82-9db5893fdcf3
DTSTART:20260502T000000
DTEND:20260502T030000
DESCRIPTION:Wage War live in concert at Fillmore Street Stairs
LOCATION:Fillmore Street Stairs\, San Francisco\, CA\, USA
ORGANIZER:mailto:events@ampwrecked.com
SUMMARY:Wage War - Wage War at Fillmore Street Stairs
END:VEVENT
END:VCALENDAR
