BEGIN:VCALENDAR
VERSION:2.0
PRODID:icalendar-ruby
CALSCALE:GREGORIAN
BEGIN:VEVENT
DTSTAMP:20260420T083422Z
UID:1327c0ff-86f0-45e7-8351-873517d206e0
DTSTART:20260429T000000
DTEND:20260429T030000
DESCRIPTION:Wage War live in concert at The Observatory North Park
LOCATION:The Observatory North Park\, San Diego\, CA\, USA
ORGANIZER:mailto:events@ampwrecked.com
SUMMARY:Wage War - Wage War at The Observatory North Park
END:VEVENT
END:VCALENDAR
